BEGIN:VCALENDAR
VERSION:2.0
PRODID:-//aifil | Associazione Italiana Fabbricanti Insegne Luminose - ECPv6.15.15//NONSGML v1.0//EN
CALSCALE:GREGORIAN
METHOD:PUBLISH
X-WR-CALNAME:aifil | Associazione Italiana Fabbricanti Insegne Luminose
X-ORIGINAL-URL:https://aifil.it
X-WR-CALDESC:Eventi per aifil | Associazione Italiana Fabbricanti Insegne Luminose
REFRESH-INTERVAL;VALUE=DURATION:PT1H
X-Robots-Tag:noindex
X-PUBLISHED-TTL:PT1H
BEGIN:VTIMEZONE
TZID:Europe/Rome
BEGIN:DAYLIGHT
TZOFFSETFROM:+0100
TZOFFSETTO:+0200
TZNAME:CEST
DTSTART:20210328T010000
END:DAYLIGHT
BEGIN:STANDARD
TZOFFSETFROM:+0200
TZOFFSETTO:+0100
TZNAME:CET
DTSTART:20211031T010000
END:STANDARD
BEGIN:DAYLIGHT
TZOFFSETFROM:+0100
TZOFFSETTO:+0200
TZNAME:CEST
DTSTART:20220327T010000
END:DAYLIGHT
BEGIN:STANDARD
TZOFFSETFROM:+0200
TZOFFSETTO:+0100
TZNAME:CET
DTSTART:20221030T010000
END:STANDARD
BEGIN:DAYLIGHT
TZOFFSETFROM:+0100
TZOFFSETTO:+0200
TZNAME:CEST
DTSTART:20230326T010000
END:DAYLIGHT
BEGIN:STANDARD
TZOFFSETFROM:+0200
TZOFFSETTO:+0100
TZNAME:CET
DTSTART:20231029T010000
END:STANDARD
END:VTIMEZONE
BEGIN:VEVENT
DTSTART;TZID=Europe/Rome:20221013T090000
DTEND;TZID=Europe/Rome:20221215T210000
DTSTAMP:20260425T143813
CREATED:20220606T083553Z
LAST-MODIFIED:20250806T082755Z
UID:4638-1665651600-1671138000@aifil.it
SUMMARY:VISCOM ITALIA 2022 - MILANO 13-15 OTTOBRE
DESCRIPTION:VISCOM ITALIA 2022 – MILANO 13-15 OTTOBRE\nAIFIL torna in Fiera! \nSaremo presenti a Viscom Italia 2022\, a Milano\, dal 13 al 15 ottobre. \nViscom Italia è l’unica fiera in Europa che racchiude l’intero mercato della comunicazione visiva: creatività\, innovazione\, business\, sostenibilità. Ma anche nuove tecnologie e applicazioni per lanciare le future tendenze nei settori: grafica/pubblicità\, design\, architettura\, interior decoration\, fashion\, packaging\, brand industry e retail. in concomitanza e all’interno proprio di Viscom\, si terrà anche Inprint Milan\, l’esposizione Internazionale delle tecnologie per la stampa industriale\, senza contare talk\, eventi live\, concorsi\, mostre. \nUn appuntamento a 360 gradi sul mercato della comunicazione visiva e di grande ispirazione e aggiornamento per la filiera visual & industrial community. \nPer quanto riguarda AIFIL\, ci sarà un appuntamento imperdibile: il 14 ottobre\,  ore 14.15\, si terrà la presentazione ufficiale al pubblico di “ETICHETTA ENERGETICA”. Il progetto AIFIL di Certificazione Energetica\, volto a sviluppare la promozione proattiva della tutela dell’Ambiente\, il consumo consapevole e sostenibile ed una maggiore cura delle risorse naturali. \nDi seguito i documenti necessari per la sponsorizzazione: \n\nLettera per sponsorizzazione Seminario EE\nModulo adesione sponsor Seminario EE\n\n  \nCogliamo l’occasione per ringraziare gli sponsor del progetto: ADREANI; CMN GROUP; F/ART; MADREPERLA GreenCast; VERBAX. \nPer ulteriori info: \nsegreteria.nazionale@aifil.it\n(+39) 06 45675536 \n \n \n\n 
URL:https://aifil.it/event/viscom-italia-2022-milano/
CATEGORIES:Fiere
ATTACH;FMTTYPE=image/jpeg:https://aifil.it/wp-content/uploads/2022/06/VIS22_header_lo2.jpg
END:VEVENT
BEGIN:VEVENT
DTSTART;TZID=Europe/Rome:20220930T090000
DTEND;TZID=Europe/Rome:20220930T170000
DTSTAMP:20260425T143813
CREATED:20220718T121745Z
LAST-MODIFIED:20250806T083349Z
UID:5194-1664528400-1664557200@aifil.it
SUMMARY:SIGN ITINERARY 2022 - MILANO 30 SETTEMBRE
DESCRIPTION:SIGN ITINERARY 2022 – MILANO\, 30 SETTEMBRE\n  \nLa terza tappa del SIGN ITINERARY 2022 si fermerà a Milano\, il 30 settembre prossimo. \nQui troverete maggiori informazioni sull’iniziativa SIGN ITINERARY:  Lettera AIFIL di presentazione \nDi seguito il programma e i moduli di adesione all’evento: \n\nSIGN ITINERARY Milano – Programma\nSIGN ITINERARY Milano – Scheda di Partecipazione\n\nSIGN ITINERARY Milano – Scheda Adesione Sponsor \n\n\nI seminari tecnici formativi riguardanti la filiera dell’insegnistica luminosa e pubblicitaria hanno fatto finora tappa a Napoli e  Arezzo. Dopo Milano seguirà Lamezia Terme\, a conclusione dell’edizione 2022. \n\nNapoli: 18 marzo\nArezzo: 6 maggio 2022\n\nMilano: 30 settembre 2022\nLamezia Terme: novembre 2022\n\n  \nEmail: segreteria.nazionale@aifil.it \n 
URL:https://aifil.it/event/sign-itinerary-2022-milano/
CATEGORIES:Sign Itinerary
ATTACH;FMTTYPE=image/jpeg:https://aifil.it/wp-content/uploads/2022/08/SIGN-ITINERARY-BASE-SECONDA-EDIZIONE_Milano_evento-facebook-scaled-e1663235721443.jpg
END:VEVENT
BEGIN:VEVENT
DTSTART;TZID=Europe/Rome:20220618T080000
DTEND;TZID=Europe/Rome:20220618T223000
DTSTAMP:20260425T143813
CREATED:20220607T100034Z
LAST-MODIFIED:20250806T083604Z
UID:4149-1655539200-1655591400@aifil.it
SUMMARY:ASSEMBLEA NAZIONALE 2022 - CAGLIARI 18 GIUGNO
DESCRIPTION:ASSEMBLEA NAZIONALE 2022 – CAGLIARI 18 giugno\n  \n \n  \nSi è tenuta a Cagliari\, il 17 e 18 giugno 2022\,  la 53° edizione dell’Assemblea Nazionale AIFIL\, l’unica Associazione di Categoria delle insegne luminose e pubblicitarie. \n  \n  \n\n\n\n\n\n\n\n\n\n\n\n\n\n\n\n        \n            \n                                                    \n                                \n\n                                        \n                        Presentazione Etichetta energetica 8-06-22._page-0001Presentazione Etichetta energetica 8-06-22._page-0002Presentazione Etichetta energetica 8-06-22._page-0003Presentazione Etichetta energetica 8-06-22._page-0004Presentazione Etichetta energetica 8-06-22._page-0005Presentazione Etichetta energetica 8-06-22._page-0006Presentazione Etichetta energetica 8-06-22._page-0007Presentazione Etichetta energetica 8-06-22._page-0008Presentazione Etichetta energetica 8-06-22._page-0009Presentazione Etichetta energetica 8-06-22._page-0010Presentazione Etichetta energetica 8-06-22._page-0011Presentazione Etichetta energetica 8-06-22._page-0012Presentazione Etichetta energetica 8-06-22._page-0013Presentazione Etichetta energetica 8-06-22._page-0014Presentazione Etichetta energetica 8-06-22._page-0015Presentazione Etichetta energetica 8-06-22._page-0016Presentazione Etichetta energetica 8-06-22._page-0017Presentazione Etichetta energetica 8-06-22._page-0018Presentazione Etichetta energetica 8-06-22._page-0019Presentazione Etichetta energetica 8-06-22._page-0020                    \n\n                                    \n            \n        \n         
URL:https://aifil.it/event/assemblea-nazionale-aifil-2022/
CATEGORIES:Assemblea
ATTACH;FMTTYPE=image/jpeg:https://aifil.it/wp-content/uploads/2022/06/cagliari-2.jpeg
END:VEVENT
BEGIN:VEVENT
DTSTART;TZID=Europe/Rome:20220506T090000
DTEND;TZID=Europe/Rome:20220506T170000
DTSTAMP:20260425T143813
CREATED:20220607T134848Z
LAST-MODIFIED:20250806T084312Z
UID:4738-1651827600-1651856400@aifil.it
SUMMARY:SIGN ITINERARY 2022 - AREZZO 6 MAGGIO
DESCRIPTION:SIGN ITINERARY 2022 – AREZZO 6 MAGGIO\nTorna anche quest’anno l’iniziativa formativa itinerante promossa da AIFIL. \nQui troverete maggiori informazioni sull’iniziativa:  Lettera AIFIL di presentazione \nI seminari tecnici formativi riguardanti la filiera dell’insegnistica luminosa e pubblicitaria faranno tappa a Napoli\, Arezzo\, Milano e Lamezia Terme. \nDi seguito il programma e il modulo di adesione all’evento: \n\nSIGN ITINERARY Arezzo_Programma \nSIGNITINERARY Arezzo_Scheda di partecipazione editabile\n\n  \nPresto disponibili aggiornamenti riguardanti la tappa di Milano\, prevista per settembre prossimo. \n\nNapoli: 18 marzo\nArezzo: 6 maggio 2022\n\nMilano: settembre 2022\nLamezia Terme: novembre 2022
URL:https://aifil.it/event/sign-itinerary-2022-arezzo-6-maggio/
CATEGORIES:Sign Itinerary
ATTACH;FMTTYPE=image/jpeg:https://aifil.it/wp-content/uploads/2022/05/SIGN-ITINERARY-BASE-SECONDA-EDIZIONE_Arezzo_evento-facebook-scaled-1.jpg
END:VEVENT
BEGIN:VEVENT
DTSTART;TZID=Europe/Rome:20220318T090000
DTEND;TZID=Europe/Rome:20220318T170000
DTSTAMP:20260425T143813
CREATED:20220210T175524Z
LAST-MODIFIED:20250806T084946Z
UID:4162-1647594000-1647622800@aifil.it
SUMMARY:SIGN ITINERARY 2022 - NAPOLI 18 MARZO
DESCRIPTION:SIGN ITINERARY 2022 – NAPOLI 18 MARZO\nTorna anche quest’anno l’iniziativa formativa itinerante promossa da AIFIL. \nQui troverete maggiori informazioni sull’iniziativa:  Lettera AIFIL di presentazione \nI seminari tecnici formativi riguardanti la filiera dell’insegnistica luminosa e pubblicitaria faranno tappa a Napoli\, Arezzo\, Milano e Lamezia Terme. \nDi seguito il programma e il modulo di adesione all’evento: \n\nSIGN ITINERARY Napoli_Programma \nSIGN ITINERARY Napoli_ Scheda di partecipazione\n\n\n  \nPresto disponibili aggiornamenti riguardanti la tappa di Arezzo\, prevista per il 6 maggio prossimo. \n\nNapoli: 18 marzo\nArezzo: 6 maggio 2022\n\nMilano: settembre 2022\nLamezia Terme: novembre 2022\n\n 
URL:https://aifil.it/event/sign-itinerary-2022/
CATEGORIES:Sign Itinerary
ATTACH;FMTTYPE=image/jpeg:https://aifil.it/wp-content/uploads/2022/03/tappa-napoli.jpg
END:VEVENT
END:VCALENDAR