BEGIN:VCALENDAR
VERSION:2.0
PRODID:-//aifil | Associazione Italiana Fabbricanti Insegne Luminose - ECPv6.15.15//NONSGML v1.0//EN
CALSCALE:GREGORIAN
METHOD:PUBLISH
X-WR-CALNAME:aifil | Associazione Italiana Fabbricanti Insegne Luminose
X-ORIGINAL-URL:https://aifil.it
X-WR-CALDESC:Eventi per aifil | Associazione Italiana Fabbricanti Insegne Luminose
REFRESH-INTERVAL;VALUE=DURATION:PT1H
X-Robots-Tag:noindex
X-PUBLISHED-TTL:PT1H
BEGIN:VTIMEZONE
TZID:Europe/Rome
BEGIN:DAYLIGHT
TZOFFSETFROM:+0100
TZOFFSETTO:+0200
TZNAME:CEST
DTSTART:20210328T010000
END:DAYLIGHT
BEGIN:STANDARD
TZOFFSETFROM:+0200
TZOFFSETTO:+0100
TZNAME:CET
DTSTART:20211031T010000
END:STANDARD
BEGIN:DAYLIGHT
TZOFFSETFROM:+0100
TZOFFSETTO:+0200
TZNAME:CEST
DTSTART:20220327T010000
END:DAYLIGHT
BEGIN:STANDARD
TZOFFSETFROM:+0200
TZOFFSETTO:+0100
TZNAME:CET
DTSTART:20221030T010000
END:STANDARD
BEGIN:DAYLIGHT
TZOFFSETFROM:+0100
TZOFFSETTO:+0200
TZNAME:CEST
DTSTART:20230326T010000
END:DAYLIGHT
BEGIN:STANDARD
TZOFFSETFROM:+0200
TZOFFSETTO:+0100
TZNAME:CET
DTSTART:20231029T010000
END:STANDARD
BEGIN:DAYLIGHT
TZOFFSETFROM:+0100
TZOFFSETTO:+0200
TZNAME:CEST
DTSTART:20240331T010000
END:DAYLIGHT
BEGIN:STANDARD
TZOFFSETFROM:+0200
TZOFFSETTO:+0100
TZNAME:CET
DTSTART:20241027T010000
END:STANDARD
END:VTIMEZONE
BEGIN:VEVENT
DTSTART;TZID=Europe/Rome:20230223T093000
DTEND;TZID=Europe/Rome:20230223T180000
DTSTAMP:20260423T202747
CREATED:20230209T103323Z
LAST-MODIFIED:20250806T081815Z
UID:6395-1677144600-1677175200@aifil.it
SUMMARY:Etichetta Energetica - Bologna\, 23 Febbraio
DESCRIPTION:L’AIFIL mette a disposizione un sistema di certificazione energetica specifico per le insegne luminose. Un’opportunità con valore aggiunto in termini di sostenibilità e qualità. \nIl 23  febbraio a Bologna\, presso l’azienda CMN Group\, si terrà un incontro di analisi e confronto tra aziende aderenti al progetto Etichetta Energetica. \n 
URL:https://aifil.it/event/etichetta-energetica-bologna-23-febbraio/
CATEGORIES:Etichetta Energetica
ATTACH;FMTTYPE=image/jpeg:https://aifil.it/wp-content/uploads/2023/02/2023.02.28-TAVOLO-LAVORO-BOLOGNA_locandina-quadrata-768x779-1.jpg
END:VEVENT
BEGIN:VEVENT
DTSTART;TZID=Europe/Rome:20221028T090000
DTEND;TZID=Europe/Rome:20221028T180000
DTSTAMP:20260423T202747
CREATED:20221020T082424Z
LAST-MODIFIED:20250806T081941Z
UID:5624-1666947600-1666980000@aifil.it
SUMMARY:Etichetta Energetica | Napoli\, 28 ottobre
DESCRIPTION:SEMINARIO ETICHETTA ENERGETICA\nNAPOLI | 28 OTTTOBRE 2022\n  \nNuovo appuntamento formativo dedicato all’Etichetta Energetica di AIFIL. \nVi aspettiamo a Napoli\, presso il nostro socio Plastidea\, il 28 ottobre alle ore 9.30 \n  \nCon questo seminario AIFIL\, l’Associazione Italiana Fabbricanti Insegne Luminose\, si impegna a sviluppare la promozione proattiva della tutela dell’ambiente\, il consumo dell’energia consapevole e sostenibile ed una maggiore rispetto delle risorse naturali. \nLo scopo dell’etichetta energetica per le insegne luminose è di rendere facilmente identificabili quei prodotti in grado di consentire un uso consapevole dell’energia contribuendo alla salvaguardia dell’ambiente e un risparmio da parte dell’utilizzatore. \nE’ un progetto riservato ai Soci AIFIL che possono aderire secondo i principi e le linee guida\, volti a semplificare sia la fattibilità che la flessibilità dell’applicazione dell’etichetta. \n  \nIn concomitanza con questo evento\, verrà inaugurato il nuovo info point AIFIL a Napoli\, un nuovo punto di riferimento a disposizione dei soci del territorio Campano e dintorni. \n  \nETICHETTA ENERGETICA: SAVE THE DATE\nQuando: Venerdì 28 ottobre 2022 \nOra di inizio: 9.30 \nDove: Plastidea Srl\, via san Salvatore 8\, Casoria (NA) \n  \nETICHETTA ENERGETICA: RELATORI\n\nGennaro Russo: segretario territoriale AIFIL area 6\nMassimo Cipriani: responsabile gruppo di lavoro\nIng. Fausto Martin: consulente tecnico AIFIL\nAlfio Bonaventura: presidente AIFIL\nRaethia Corsini: responsabile comunicazione etichetta energetica\n\n  \n  \nULTERIORI INFORMAZIONI\n\nEtichetta Energetica\nApertura info point Napoli\nEventi e formazione AIFIL\n\n 
URL:https://aifil.it/event/etichetta-energetica-napoli-2022/
CATEGORIES:Etichetta Energetica
ATTACH;FMTTYPE=image/jpeg:https://aifil.it/wp-content/uploads/2022/10/ETICHETTA-ENERGETICA_Napoli-28-ottobre-22-grafica-sito-scaled-1.jpg
END:VEVENT
END:VCALENDAR