BEGIN:VCALENDAR
VERSION:2.0
PRODID:-//aifil | Associazione Italiana Fabbricanti Insegne Luminose - ECPv6.15.15//NONSGML v1.0//EN
CALSCALE:GREGORIAN
METHOD:PUBLISH
X-WR-CALNAME:aifil | Associazione Italiana Fabbricanti Insegne Luminose
X-ORIGINAL-URL:https://aifil.it
X-WR-CALDESC:Eventi per aifil | Associazione Italiana Fabbricanti Insegne Luminose
REFRESH-INTERVAL;VALUE=DURATION:PT1H
X-Robots-Tag:noindex
X-PUBLISHED-TTL:PT1H
BEGIN:VTIMEZONE
TZID:Europe/Rome
BEGIN:DAYLIGHT
TZOFFSETFROM:+0100
TZOFFSETTO:+0200
TZNAME:CEST
DTSTART:20210328T010000
END:DAYLIGHT
BEGIN:STANDARD
TZOFFSETFROM:+0200
TZOFFSETTO:+0100
TZNAME:CET
DTSTART:20211031T010000
END:STANDARD
BEGIN:DAYLIGHT
TZOFFSETFROM:+0100
TZOFFSETTO:+0200
TZNAME:CEST
DTSTART:20220327T010000
END:DAYLIGHT
BEGIN:STANDARD
TZOFFSETFROM:+0200
TZOFFSETTO:+0100
TZNAME:CET
DTSTART:20221030T010000
END:STANDARD
BEGIN:DAYLIGHT
TZOFFSETFROM:+0100
TZOFFSETTO:+0200
TZNAME:CEST
DTSTART:20230326T010000
END:DAYLIGHT
BEGIN:STANDARD
TZOFFSETFROM:+0200
TZOFFSETTO:+0100
TZNAME:CET
DTSTART:20231029T010000
END:STANDARD
END:VTIMEZONE
BEGIN:VEVENT
DTSTART;TZID=Europe/Rome:20221013T090000
DTEND;TZID=Europe/Rome:20221215T210000
DTSTAMP:20260423T173339
CREATED:20220606T083553Z
LAST-MODIFIED:20250806T082755Z
UID:4638-1665651600-1671138000@aifil.it
SUMMARY:VISCOM ITALIA 2022 - MILANO 13-15 OTTOBRE
DESCRIPTION:VISCOM ITALIA 2022 – MILANO 13-15 OTTOBRE\nAIFIL torna in Fiera! \nSaremo presenti a Viscom Italia 2022\, a Milano\, dal 13 al 15 ottobre. \nViscom Italia è l’unica fiera in Europa che racchiude l’intero mercato della comunicazione visiva: creatività\, innovazione\, business\, sostenibilità. Ma anche nuove tecnologie e applicazioni per lanciare le future tendenze nei settori: grafica/pubblicità\, design\, architettura\, interior decoration\, fashion\, packaging\, brand industry e retail. in concomitanza e all’interno proprio di Viscom\, si terrà anche Inprint Milan\, l’esposizione Internazionale delle tecnologie per la stampa industriale\, senza contare talk\, eventi live\, concorsi\, mostre. \nUn appuntamento a 360 gradi sul mercato della comunicazione visiva e di grande ispirazione e aggiornamento per la filiera visual & industrial community. \nPer quanto riguarda AIFIL\, ci sarà un appuntamento imperdibile: il 14 ottobre\,  ore 14.15\, si terrà la presentazione ufficiale al pubblico di “ETICHETTA ENERGETICA”. Il progetto AIFIL di Certificazione Energetica\, volto a sviluppare la promozione proattiva della tutela dell’Ambiente\, il consumo consapevole e sostenibile ed una maggiore cura delle risorse naturali. \nDi seguito i documenti necessari per la sponsorizzazione: \n\nLettera per sponsorizzazione Seminario EE\nModulo adesione sponsor Seminario EE\n\n  \nCogliamo l’occasione per ringraziare gli sponsor del progetto: ADREANI; CMN GROUP; F/ART; MADREPERLA GreenCast; VERBAX. \nPer ulteriori info: \nsegreteria.nazionale@aifil.it\n(+39) 06 45675536 \n \n \n\n 
URL:https://aifil.it/event/viscom-italia-2022-milano/
CATEGORIES:Fiere
ATTACH;FMTTYPE=image/jpeg:https://aifil.it/wp-content/uploads/2022/06/VIS22_header_lo2.jpg
END:VEVENT
BEGIN:VEVENT
DTSTART;TZID=Europe/Rome:20220930T090000
DTEND;TZID=Europe/Rome:20220930T170000
DTSTAMP:20260423T173339
CREATED:20220718T121745Z
LAST-MODIFIED:20250806T083349Z
UID:5194-1664528400-1664557200@aifil.it
SUMMARY:SIGN ITINERARY 2022 - MILANO 30 SETTEMBRE
DESCRIPTION:SIGN ITINERARY 2022 – MILANO\, 30 SETTEMBRE\n  \nLa terza tappa del SIGN ITINERARY 2022 si fermerà a Milano\, il 30 settembre prossimo. \nQui troverete maggiori informazioni sull’iniziativa SIGN ITINERARY:  Lettera AIFIL di presentazione \nDi seguito il programma e i moduli di adesione all’evento: \n\nSIGN ITINERARY Milano – Programma\nSIGN ITINERARY Milano – Scheda di Partecipazione\n\nSIGN ITINERARY Milano – Scheda Adesione Sponsor \n\n\nI seminari tecnici formativi riguardanti la filiera dell’insegnistica luminosa e pubblicitaria hanno fatto finora tappa a Napoli e  Arezzo. Dopo Milano seguirà Lamezia Terme\, a conclusione dell’edizione 2022. \n\nNapoli: 18 marzo\nArezzo: 6 maggio 2022\n\nMilano: 30 settembre 2022\nLamezia Terme: novembre 2022\n\n  \nEmail: segreteria.nazionale@aifil.it \n 
URL:https://aifil.it/event/sign-itinerary-2022-milano/
CATEGORIES:Sign Itinerary
ATTACH;FMTTYPE=image/jpeg:https://aifil.it/wp-content/uploads/2022/08/SIGN-ITINERARY-BASE-SECONDA-EDIZIONE_Milano_evento-facebook-scaled-e1663235721443.jpg
END:VEVENT
END:VCALENDAR